BEGIN:VCALENDAR
VERSION:2.0
PRODID:icalendar-ruby
CALSCALE:GREGORIAN
METHOD:PUBLISH
BEGIN:VEVENT
DTSTAMP:20260422T122624Z
UID:14-2686829@stgeorgesmoncton.ca
DTSTART:20261001T130000Z
DTEND:20261001T141000Z
CLASS:PUBLIC
CREATED:20260422T075344
DESCRIPTION:When it is the service time\, check us out live!
LAST-MODIFIED:20260422T075344
LOCATION:St. George's Chapel and Live-Streamed
SUMMARY:Thursday Holy Communion
URL;VALUE=URI:https://www.stgeorgesmoncton.com/events/thursday-holy-communi
 on/2026-10-01
ATTACH;FILENAME=FB Altar Header.png;FMTTYPE=image/png:https://dq5pwpg1q8ru0
 .cloudfront.net/2023/06/05/11/07/34/bbb27ed1-e6ef-49ef-97d6-a76390c7911f/F
 B%20Altar%20Header.png
END:VEVENT
END:VCALENDAR
