BEGIN:VCALENDAR
VERSION:2.0
PRODID:icalendar-ruby
CALSCALE:GREGORIAN
METHOD:PUBLISH
BEGIN:VEVENT
DTSTAMP:20260421T232150Z
UID:16-2685485@stgeorgesmoncton.ca
DTSTART:20261101T210000Z
DTEND:20261101T214500Z
CLASS:PUBLIC
CREATED:20260421T181644
DESCRIPTION:
LAST-MODIFIED:20260421T181644
LOCATION:In person and Livestreamed
SUMMARY:5PM Evening Prayer
URL;VALUE=URI:https://www.stgeorgesmoncton.com/events/5pm-evening-prayer/20
 26-11-01
ATTACH;FILENAME=IMG_9512_BW.png;FMTTYPE=image/png:https://dq5pwpg1q8ru0.clo
 udfront.net/2020/07/18/12/44/02/1ead82a6-506c-425a-9ba4-3ac248de246f/IMG_9
 512_BW.png
END:VEVENT
END:VCALENDAR
